BEGIN:VCALENDAR
VERSION:2.0
PRODID:-//International GNSS Service - ECPv6.15.20//NONSGML v1.0//EN
CALSCALE:GREGORIAN
METHOD:PUBLISH
X-WR-CALNAME:International GNSS Service
X-ORIGINAL-URL:https://igs.org
X-WR-CALDESC:Events for International GNSS Service
REFRESH-INTERVAL;VALUE=DURATION:PT1H
X-Robots-Tag:noindex
X-PUBLISHED-TTL:PT1H
BEGIN:VTIMEZONE
TZID:UTC
BEGIN:STANDARD
TZOFFSETFROM:+0000
TZOFFSETTO:+0000
TZNAME:UTC
DTSTART:20250101T000000
END:STANDARD
END:VTIMEZONE
BEGIN:VEVENT
DTSTART;VALUE=DATE:20260601
DTEND;VALUE=DATE:20260606
DTSTAMP:20260425T145437
CREATED:20250616T211020Z
LAST-MODIFIED:20250616T211943Z
UID:32528-1780272000-1780703999@igs.org
SUMMARY:2026 IGS Workshop
DESCRIPTION:We are looking forward to seeing you at the IGS Symposium and Workshop in\nSantiago de Chile in 2026\, which will be our first-ever event in South\nAmerica! More information about this event will be announced on the IGS\nwebsite early next year.
URL:https://igs.org/event/2026-igs-workshop/
CATEGORIES:IGS Workshops
ATTACH;FMTTYPE=image/jpeg:https://igs.org/wp-content/uploads/2020/12/Banner-scaled.jpg
END:VEVENT
BEGIN:VEVENT
DTSTART;VALUE=DATE:20260928
DTEND;VALUE=DATE:20261002
DTSTAMP:20260425T145437
CREATED:20250227T203310Z
LAST-MODIFIED:20250227T203857Z
UID:32166-1790553600-1790899199@igs.org
SUMMARY:TIGER (Tracking and Investigating Geodynamics and Earth Rotation) Symposium
DESCRIPTION:28 Sep – 01 Oct 2026 : TIGER (Tracking and Investigating Geodynamics and Earth Rotation) Symposium in Geodesy (1st symposium of the IAG Commission 3 on Earth Rotation and Geodynamics\, in cooperation with the Journees meeting series) \n  \nMore info to follow.
URL:https://igs.org/event/tiger-tracking-and-investigating-geodynamics-and-earth-rotation-symposium/
LOCATION:Gavle\, Sweden\, Gävle\, Sweden
END:VEVENT
BEGIN:VEVENT
DTSTART;VALUE=DATE:20261001
DTEND;VALUE=DATE:20261008
DTSTAMP:20260425T145437
CREATED:20250227T204536Z
LAST-MODIFIED:20250227T204536Z
UID:32171-1790812800-1791417599@igs.org
SUMMARY:GGOS Days 2026 + GGOS Topical Meeting on Geohazards
DESCRIPTION:
URL:https://igs.org/event/ggos-days-2026-ggos-topical-meeting-on-geohazards/
LOCATION:Gavle\, Sweden\, Gävle\, Sweden
END:VEVENT
BEGIN:VEVENT
DTSTART;VALUE=DATE:20261207
DTEND;VALUE=DATE:20261213
DTSTAMP:20260425T145437
CREATED:20240620T201219Z
LAST-MODIFIED:20240620T201219Z
UID:31608-1796630400-1797062399@igs.org
SUMMARY:AGU Annual Meeting 2026
DESCRIPTION:
URL:https://igs.org/event/agu26/
LOCATION:San Francisco\, CA\, USA\, San Francisco\, CA\, United States
CATEGORIES:AGU Meetings
ATTACH;FMTTYPE=image/png:https://igs.org/wp-content/uploads/2021/10/AGU_Trademarked_logo_590.png
END:VEVENT
BEGIN:VEVENT
DTSTART;VALUE=DATE:20271213
DTEND;VALUE=DATE:20271219
DTSTAMP:20260425T145437
CREATED:20240620T201331Z
LAST-MODIFIED:20260401T210645Z
UID:31610-1828674000-1829105999@igs.org
SUMMARY:AGU Annual Meeting 2027
DESCRIPTION:
URL:https://igs.org/event/agu27/
LOCATION:Washington\, D.C.\, United States
CATEGORIES:AGU Meetings
ATTACH;FMTTYPE=image/png:https://igs.org/wp-content/uploads/2021/10/AGU_Trademarked_logo_590.png
END:VEVENT
BEGIN:VEVENT
DTSTART;VALUE=DATE:20281211
DTEND;VALUE=DATE:20281217
DTSTAMP:20260425T145437
CREATED:20240620T201446Z
LAST-MODIFIED:20240620T201446Z
UID:31612-1860127200-1860559199@igs.org
SUMMARY:AGU Annual Meeting 2028
DESCRIPTION:
URL:https://igs.org/event/agu28/
LOCATION:San Diego\, CA\, USA
CATEGORIES:AGU Meetings
ATTACH;FMTTYPE=image/png:https://igs.org/wp-content/uploads/2021/10/AGU_Trademarked_logo_590.png
END:VEVENT
END:VCALENDAR